BEGIN:VCALENDAR
VERSION:2.0
PRODID:-//CPL93 – Cercle des patineurs Livryens - ECPv4.0.5//NONSGML v1.0//EN
CALSCALE:GREGORIAN
METHOD:PUBLISH
X-WR-CALNAME:CPL93 – Cercle des patineurs Livryens
X-ORIGINAL-URL:http://www.cpl93.fr
X-WR-CALDESC:Events for CPL93 – Cercle des patineurs Livryens
BEGIN:VEVENT
DTSTART;VALUE=DATE:20160604
DTEND;VALUE=DATE:20160606
DTSTAMP:20260422T132401
CREATED:20160406
LAST-MODIFIED:20160511
UID:2324-1465005600-1465178399@www.cpl93.fr
SUMMARY:12h de la Faute sur mer
DESCRIPTION:
URL:http://www.cpl93.fr/evenement/12h-de-la-faute-sur-mer/
LOCATION:Boulevard de forêt\, La Faute-sur-Mer\, 85460\, France
CATEGORIES:evenement general,randonnée
ATTACH;FMTTYPE=image/jpeg:http://www.cpl93.fr/wp-content/uploads/2016/04/La-faute-2016.jpg
END:VEVENT
END:VCALENDAR